BEGIN:VCALENDAR

VERSION:2.0

PRODID:-//hacksw/handcal//NONSGML v1.0//EN

BEGIN:VEVENT

UID:68e2c8f59d54432c736f17e3236166dd

DTSTAMP:20200301T104218Z

DTSTART:20200301T120000

DTEND:20200301T123000

SUMMARY:21892659 - 33/144 Mill Point Road, SOUTH PERTH WA 6151

LOCATION:33/144 Mill Point Road, SOUTH PERTH WA 6151

END:VEVENT

END:VCALENDAR