BEGIN:VCALENDAR

VERSION:2.0

PRODID:-//hacksw/handcal//NONSGML v1.0//EN

BEGIN:VEVENT

UID:6cc8f9aa746000c0778058846e2d0e8b

DTSTAMP:20200301T104518Z

DTSTART:20200301T130000

DTEND:20200301T134000

SUMMARY:21856989 - 1 Rea Street, SOUTH PERTH WA 6151

LOCATION:1 Rea Street, SOUTH PERTH WA 6151

END:VEVENT

END:VCALENDAR