BEGIN:VCALENDAR

VERSION:2.0

PRODID:-//hacksw/handcal//NONSGML v1.0//EN

BEGIN:VEVENT

UID:6cd406658552b3fbad91aafbc4f35bbc

DTSTAMP:20200301T105427Z

DTSTART:20200304T100000

DTEND:20200304T103000

SUMMARY:21829034 - 44 CORINDA WAY, RIDGEWOOD WA 6030

LOCATION:44 CORINDA WAY, RIDGEWOOD WA 6030

END:VEVENT

END:VCALENDAR