BEGIN:VCALENDAR

VERSION:2.0

PRODID:-//hacksw/handcal//NONSGML v1.0//EN

BEGIN:VEVENT

UID:739841cab1c5fda68d39936b70c5d674

DTSTAMP:20200301T104850Z

DTSTART:20200303T154500

DTEND:20200303T160000

SUMMARY:1569148 - 1/65 SOUTH PERTH ESPLANADE, SOUTH PERTH WA 6151

LOCATION:1/65 SOUTH PERTH ESPLANADE, SOUTH PERTH WA 6151

END:VEVENT

END:VCALENDAR