BEGIN:VCALENDAR

VERSION:2.0

PRODID:-//hacksw/handcal//NONSGML v1.0//EN

BEGIN:VEVENT

UID:8af9dbaab5c009be270173e5e07a1103

DTSTAMP:20200301T103035Z

DTSTART:20200301T090000

DTEND:20200301T100000

SUMMARY:21812457 - 10/188 Fern Road, WILSON WA 6107

LOCATION:10/188 Fern Road, WILSON WA 6107

END:VEVENT

END:VCALENDAR