BEGIN:VCALENDAR

VERSION:2.0

PRODID:-//hacksw/handcal//NONSGML v1.0//EN

BEGIN:VEVENT

UID:ff71a89a87097b74841a1904b447ac1b

DTSTAMP:20200301T104353Z

DTSTART:20200301T130000

DTEND:20200301T134000

SUMMARY:21769393 - 3/5 Bruce Street, COMO WA 6152

LOCATION:3/5 Bruce Street, COMO WA 6152

END:VEVENT

END:VCALENDAR