BEGIN:VCALENDAR

VERSION:2.0

PRODID:-//hacksw/handcal//NONSGML v1.0//EN

BEGIN:VEVENT

UID:282a0d65f9f0880402cdd935701b5eb8

DTSTAMP:20200301T105020Z

DTSTART:20200303T161500

DTEND:20200303T163000

SUMMARY:21777403 - 2/5 CALE STREET, COMO WA 6152

LOCATION:2/5 CALE STREET, COMO WA 6152

END:VEVENT

END:VCALENDAR