BEGIN:VCALENDAR

VERSION:2.0

PRODID:-//hacksw/handcal//NONSGML v1.0//EN

BEGIN:VEVENT

UID:40deed9a7123aa535817ce98d6c063b6

DTSTAMP:20200301T103341Z

DTSTART:20200301T110000

DTEND:20200301T114000

SUMMARY:21766660 - 16/154 Mill Point Road, SOUTH PERTH WA 6151

LOCATION:16/154 Mill Point Road, SOUTH PERTH WA 6151

END:VEVENT

END:VCALENDAR