BEGIN:VCALENDAR

VERSION:2.0

PRODID:-//hacksw/handcal//NONSGML v1.0//EN

BEGIN:VEVENT

UID:e20b17519c82a5a389c8247b171371b9

DTSTAMP:20200301T104647Z

DTSTART:20200301T140000

DTEND:20200301T144000

SUMMARY:21728399 - 4/27 Robert Street, COMO WA 6152

LOCATION:4/27 Robert Street, COMO WA 6152

END:VEVENT

END:VCALENDAR