BEGIN:VCALENDAR

VERSION:2.0

PRODID:-//hacksw/handcal//NONSGML v1.0//EN

BEGIN:VEVENT

UID:611aaa62ee321d5153a47d0d8ecb0584

DTSTAMP:20200301T105306Z

DTSTART:20200303T171000

DTEND:20200303T172500

SUMMARY:2054723 - 1/1 RANELAGH CRESCENT, SOUTH PERTH WA 6151

LOCATION:1/1 RANELAGH CRESCENT, SOUTH PERTH WA 6151

END:VEVENT

END:VCALENDAR