BEGIN:VCALENDAR

VERSION:2.0

PRODID:-//hacksw/handcal//NONSGML v1.0//EN

BEGIN:VEVENT

UID:6c6513effe4269552e87d1a4be6be5ec

DTSTAMP:20200301T105132Z

DTSTART:20200303T164500

DTEND:20200303T170000

SUMMARY:10023513 - 39 RANELAGH CRESCENT, SOUTH PERTH WA 6151

LOCATION:39 RANELAGH CRESCENT, SOUTH PERTH WA 6151

END:VEVENT

END:VCALENDAR