BEGIN:VCALENDAR

VERSION:2.0

PRODID:-//hacksw/handcal//NONSGML v1.0//EN

BEGIN:VEVENT

UID:cec96abafb457e14626c4345392972e0

DTSTAMP:20200301T104034Z

DTSTART:20200301T113000

DTEND:20200301T121500

SUMMARY:21611054 - 8 Tathra Lane, AUBIN GROVE WA 6164

LOCATION:8 Tathra Lane, AUBIN GROVE WA 6164

END:VEVENT

END:VCALENDAR