BEGIN:VCALENDAR

VERSION:2.0

PRODID:-//hacksw/handcal//NONSGML v1.0//EN

BEGIN:VEVENT

UID:7d2b148f1a79eb4a1f7a98ed410886d8

DTSTAMP:20200301T104158Z

DTSTART:20200301T120000

DTEND:20200301T124000

SUMMARY:21578450 - 5/11 Anstey Street, SOUTH PERTH WA 6151

LOCATION:5/11 Anstey Street, SOUTH PERTH WA 6151

END:VEVENT

END:VCALENDAR