BEGIN:VCALENDAR

VERSION:2.0

PRODID:-//hacksw/handcal//NONSGML v1.0//EN

BEGIN:VEVENT

UID:5450b7fd747394231191389a3ea917c6

DTSTAMP:20200301T103203Z

DTSTART:20200301T100000

DTEND:20200301T104000

SUMMARY:21316032 - 4/14 Mill Point Road, SOUTH PERTH WA 6151

LOCATION:4/14 Mill Point Road, SOUTH PERTH WA 6151

END:VEVENT

END:VCALENDAR